BEGIN:VCALENDAR
VERSION:2.0
PRODID:-//District Fray - Making Fun Possible //NONSGML Events //EN
CALSCALE:GREGORIAN
X-WR-CALNAME:District Fray - Making Fun Possible
BEGIN:VEVENT
CREATED:20220629T154038Z
UID:132276
DTEND;VALUE=DATE:20220702T212500Z
DTSTART;VALUE=DATE:20220702T212500Z
DTSTAMP:20260420T085957Z
LOCATION:
DESCRIPTION:
SUMMARY:SummerFest Fireworks
ORGANIZER:
URL;VALUE=URI:https://districtfray.com/event/summerfest-fireworks/
TRANSP:OPAQUE
BEGIN:VALARM
ACTION:DISPLAY
TRIGGER;VALUE=DATE-TIME:20220702T212500Z
DESCRIPTION:Reminder for SummerFest Fireworks
END:VALARM
END:VEVENT
END:VCALENDAR