BEGIN:VCALENDAR
VERSION:2.0
PRODID:-//District Fray - Making Fun Possible //NONSGML Events //EN
CALSCALE:GREGORIAN
X-WR-CALNAME:District Fray - Making Fun Possible
BEGIN:VEVENT
CREATED:20220615T133729Z
UID:131083
DTEND;VALUE=DATE:20220617T160000Z
DTSTART;VALUE=DATE:20220617T160000Z
DTSTAMP:20260420T090143Z
LOCATION:
DESCRIPTION:
SUMMARY:The Nomadic House Opening Event at PARC
ORGANIZER:
URL;VALUE=URI:https://districtfray.com/event/the-nomadic-house-opening-event-at-parc/
TRANSP:OPAQUE
BEGIN:VALARM
ACTION:DISPLAY
TRIGGER;VALUE=DATE-TIME:20220617T160000Z
DESCRIPTION:Reminder for The Nomadic House Opening Event at PARC
END:VALARM
END:VEVENT
END:VCALENDAR