BEGIN:VCALENDAR
VERSION:2.0
PRODID:-//District Fray - Making Fun Possible //NONSGML Events //EN
CALSCALE:GREGORIAN
X-WR-CALNAME:District Fray - Making Fun Possible
BEGIN:VEVENT
CREATED:20220426T203435Z
UID:126932
DTEND;VALUE=DATE:20220513T190000Z
DTSTART;VALUE=DATE:20220513T190000Z
DTSTAMP:20260421T102901Z
LOCATION:
DESCRIPTION:
SUMMARY:The Keegan Theatre: The Boiler Room Series ‘The Wilting Point’
ORGANIZER:
URL;VALUE=URI:https://districtfray.com/event/the-keegan-theatre-the-boiler-room-series-the-wilting-point/
TRANSP:OPAQUE
BEGIN:VALARM
ACTION:DISPLAY
TRIGGER;VALUE=DATE-TIME:20220513T190000Z
DESCRIPTION:Reminder for The Keegan Theatre: The Boiler Room Series ‘The Wilting Point’
END:VALARM
END:VEVENT
END:VCALENDAR