BEGIN:VCALENDAR
VERSION:2.0
PRODID:-//District Fray - Making Fun Possible //NONSGML Events //EN
CALSCALE:GREGORIAN
X-WR-CALNAME:District Fray - Making Fun Possible
BEGIN:VEVENT
CREATED:20220420T142028Z
UID:126414
DTEND;VALUE=DATE:20220424T120000Z
DTSTART;VALUE=DATE:20220424T120000Z
DTSTAMP:20260420T090257Z
LOCATION:
DESCRIPTION:
SUMMARY:“On Sundays, We Drink Wine” at Woodlawn Press Winery
ORGANIZER:
URL;VALUE=URI:https://districtfray.com/event/on-sundays-we-drink-wine-at-woodlawn-press-winery/
TRANSP:OPAQUE
BEGIN:VALARM
ACTION:DISPLAY
TRIGGER;VALUE=DATE-TIME:20220424T120000Z
DESCRIPTION:Reminder for “On Sundays\, We Drink Wine” at Woodlawn Press Winery
END:VALARM
END:VEVENT
END:VCALENDAR