BEGIN:VCALENDAR
VERSION:2.0
PRODID:-//District Fray - Making Fun Possible //NONSGML Events //EN
CALSCALE:GREGORIAN
X-WR-CALNAME:District Fray - Making Fun Possible
BEGIN:VEVENT
CREATED:20220322T182623Z
UID:124224
DTEND;VALUE=DATE:20220401T190000Z
DTSTART;VALUE=DATE:20220401T190000Z
DTSTAMP:20260420T090500Z
LOCATION:
DESCRIPTION:
SUMMARY:Down to Earth – Exhibit Opening
ORGANIZER:
URL;VALUE=URI:https://districtfray.com/event/down-to-earth-exhibit-opening/
TRANSP:OPAQUE
BEGIN:VALARM
ACTION:DISPLAY
TRIGGER;VALUE=DATE-TIME:20220401T190000Z
DESCRIPTION:Reminder for Down to Earth – Exhibit Opening
END:VALARM
END:VEVENT
END:VCALENDAR