BEGIN:VCALENDAR
VERSION:2.0
PRODID:-//District Fray - Making Fun Possible //NONSGML Events //EN
CALSCALE:GREGORIAN
X-WR-CALNAME:District Fray - Making Fun Possible
BEGIN:VEVENT
CREATED:20220302T204114Z
UID:122723
DTEND;VALUE=DATE:20220302T190000Z
DTSTART;VALUE=DATE:20220302T190000Z
DTSTAMP:20260420T090541Z
LOCATION:
DESCRIPTION:
SUMMARY:Washington Performing Arts/Songbyrd Concert Series Presents Justin Trawick And The Common Good
ORGANIZER:
URL;VALUE=URI:https://districtfray.com/event/washington-performing-arts-songbyrd-concert-series-presents-justin-trawick-and-the-common-good/
TRANSP:OPAQUE
BEGIN:VALARM
ACTION:DISPLAY
TRIGGER;VALUE=DATE-TIME:20220302T190000Z
DESCRIPTION:Reminder for Washington Performing Arts/Songbyrd Concert Series Presents Justin Trawick And The Common Good
END:VALARM
END:VEVENT
END:VCALENDAR