BEGIN:VCALENDAR
VERSION:2.0
PRODID:-//District Fray - Making Fun Possible //NONSGML Events //EN
CALSCALE:GREGORIAN
X-WR-CALNAME:District Fray - Making Fun Possible
BEGIN:VEVENT
CREATED:20220216T175549Z
UID:121176
DTEND;VALUE=DATE:20220407T193000Z
DTSTART;VALUE=DATE:20220407T193000Z
DTSTAMP:20260420T090256Z
LOCATION:
DESCRIPTION:
SUMMARY:World Premiere of “We declare you a terrorist…” at Round House Theatre
ORGANIZER:
URL;VALUE=URI:https://districtfray.com/event/world-premiere-of-we-declare-you-a-terrorist-at-round-house-theatre/
TRANSP:OPAQUE
BEGIN:VALARM
ACTION:DISPLAY
TRIGGER;VALUE=DATE-TIME:20220407T193000Z
DESCRIPTION:Reminder for World Premiere of “We declare you a terrorist…” at Round House Theatre
END:VALARM
END:VEVENT
END:VCALENDAR