BEGIN:VCALENDAR
VERSION:2.0
PRODID:-//District Fray - Making Fun Possible //NONSGML Events //EN
CALSCALE:GREGORIAN
X-WR-CALNAME:District Fray - Making Fun Possible
BEGIN:VEVENT
CREATED:20220216T172549Z
UID:121162
DTEND;VALUE=DATE:20220310T180000Z
DTSTART;VALUE=DATE:20220310T180000Z
DTSTAMP:20260420T093224Z
LOCATION:
DESCRIPTION:
SUMMARY:Street Food: Samosas &amp; Pakora
ORGANIZER:
URL;VALUE=URI:https://districtfray.com/event/street-food-samosas-pakora/
TRANSP:OPAQUE
BEGIN:VALARM
ACTION:DISPLAY
TRIGGER;VALUE=DATE-TIME:20220310T180000Z
DESCRIPTION:Reminder for Street Food: Samosas &amp; Pakora
END:VALARM
END:VEVENT
END:VCALENDAR