BEGIN:VCALENDAR
VERSION:2.0
PRODID:-//District Fray - Making Fun Possible //NONSGML Events //EN
CALSCALE:GREGORIAN
X-WR-CALNAME:District Fray - Making Fun Possible
BEGIN:VEVENT
CREATED:20220126T185219Z
UID:119829
DTEND;VALUE=DATE:20220212T190000Z
DTSTART;VALUE=DATE:20220212T190000Z
DTSTAMP:20260420T093705Z
LOCATION:
DESCRIPTION:
SUMMARY:DMV Libras Comedy and RnB Valentines Day Night
ORGANIZER:
URL;VALUE=URI:https://districtfray.com/event/dmv-libras-comedy-and-rnb-valentines-day-night/
TRANSP:OPAQUE
BEGIN:VALARM
ACTION:DISPLAY
TRIGGER;VALUE=DATE-TIME:20220212T190000Z
DESCRIPTION:Reminder for DMV Libras Comedy and RnB Valentines Day Night
END:VALARM
END:VEVENT
END:VCALENDAR