BEGIN:VCALENDAR
VERSION:2.0
PRODID:-//District Fray - Making Fun Possible //NONSGML Events //EN
CALSCALE:GREGORIAN
X-WR-CALNAME:District Fray - Making Fun Possible
BEGIN:VEVENT
CREATED:20220126T160655Z
UID:119711
DTEND;VALUE=DATE:20220217T220000Z
DTSTART;VALUE=DATE:20220217T220000Z
DTSTAMP:20260422T105034Z
LOCATION:
DESCRIPTION:
SUMMARY:Nü Androids Presents MYD: North American Club Tour
ORGANIZER:
URL;VALUE=URI:https://districtfray.com/event/nu-androids-presents-myd-north-american-club-tour/
TRANSP:OPAQUE
BEGIN:VALARM
ACTION:DISPLAY
TRIGGER;VALUE=DATE-TIME:20220217T220000Z
DESCRIPTION:Reminder for Nü Androids Presents MYD: North American Club Tour
END:VALARM
END:VEVENT
END:VCALENDAR