BEGIN:VCALENDAR
VERSION:2.0
PRODID:-//District Fray - Making Fun Possible //NONSGML Events //EN
CALSCALE:GREGORIAN
X-WR-CALNAME:District Fray - Making Fun Possible
BEGIN:VEVENT
CREATED:20220118T232352Z
UID:119296
DTEND;VALUE=DATE:20220205T160000Z
DTSTART;VALUE=DATE:20220205T160000Z
DTSTAMP:20260420T092202Z
LOCATION:
DESCRIPTION:
SUMMARY:#FeteDecale at Palisades Lounge
ORGANIZER:
URL;VALUE=URI:https://districtfray.com/event/fetedecale-at-palisades-lounge/
TRANSP:OPAQUE
BEGIN:VALARM
ACTION:DISPLAY
TRIGGER;VALUE=DATE-TIME:20220205T160000Z
DESCRIPTION:Reminder for #FeteDecale at Palisades Lounge
END:VALARM
END:VEVENT
END:VCALENDAR