BEGIN:VCALENDAR
VERSION:2.0
PRODID:-//District Fray - Making Fun Possible //NONSGML Events //EN
CALSCALE:GREGORIAN
X-WR-CALNAME:District Fray - Making Fun Possible
BEGIN:VEVENT
CREATED:20220118T232931Z
UID:119262
DTEND;VALUE=DATE:20220129T130000Z
DTSTART;VALUE=DATE:20220129T130000Z
DTSTAMP:20260420T085900Z
LOCATION:
DESCRIPTION:
SUMMARY:Improv For All with Washington Improv Theater
ORGANIZER:
URL;VALUE=URI:https://districtfray.com/event/improv-for-all-with-washington-improv-theater/
TRANSP:OPAQUE
BEGIN:VALARM
ACTION:DISPLAY
TRIGGER;VALUE=DATE-TIME:20220129T130000Z
DESCRIPTION:Reminder for Improv For All with Washington Improv Theater
END:VALARM
END:VEVENT
END:VCALENDAR