BEGIN:VCALENDAR
VERSION:2.0
PRODID:-//District Fray - Making Fun Possible //NONSGML Events //EN
CALSCALE:GREGORIAN
X-WR-CALNAME:District Fray - Making Fun Possible
BEGIN:VEVENT
CREATED:20220118T233649Z
UID:118962
DTEND;VALUE=DATE:20220201T200000Z
DTSTART;VALUE=DATE:20220201T200000Z
DTSTAMP:20260420T090143Z
LOCATION:
DESCRIPTION:
SUMMARY:Sphinx Symphony Orchestra w/ Exigence Vocal Ensemble &amp; J’Nai Bridges
ORGANIZER:
URL;VALUE=URI:https://districtfray.com/event/sphinx-symphony-orchestra-w-exigence-vocal-ensemble-jnai-bridges/
TRANSP:OPAQUE
BEGIN:VALARM
ACTION:DISPLAY
TRIGGER;VALUE=DATE-TIME:20220201T200000Z
DESCRIPTION:Reminder for Sphinx Symphony Orchestra w/ Exigence Vocal Ensemble &amp; J’Nai Bridges
END:VALARM
END:VEVENT
END:VCALENDAR