BEGIN:VCALENDAR
VERSION:2.0
PRODID:-//District Fray - Making Fun Possible //NONSGML Events //EN
CALSCALE:GREGORIAN
X-WR-CALNAME:District Fray - Making Fun Possible
BEGIN:VEVENT
CREATED:20211206T183037Z
UID:117537
DTEND;VALUE=DATE:20211209T163000Z
DTSTART;VALUE=DATE:20211209T163000Z
DTSTAMP:20260419T125152Z
LOCATION:
DESCRIPTION:
SUMMARY:Luminocity Festival Lights at Roer’s Zoofari
ORGANIZER:
URL;VALUE=URI:https://districtfray.com/event/luminocity-festival-lights-at-roers-zoofari/
TRANSP:OPAQUE
BEGIN:VALARM
ACTION:DISPLAY
TRIGGER;VALUE=DATE-TIME:20211209T163000Z
DESCRIPTION:Reminder for Luminocity Festival Lights at Roer’s Zoofari
END:VALARM
END:VEVENT
END:VCALENDAR