BEGIN:VCALENDAR
VERSION:2.0
PRODID:-//District Fray - Making Fun Possible //NONSGML Events //EN
CALSCALE:GREGORIAN
X-WR-CALNAME:District Fray - Making Fun Possible
BEGIN:VEVENT
CREATED:20211130T205418Z
UID:116940
DTEND;VALUE=DATE:20211216T200000Z
DTSTART;VALUE=DATE:20211216T200000Z
DTSTAMP:20260420T105149Z
LOCATION:
DESCRIPTION:
SUMMARY:Bad Blood: Taylor Versus Miley
ORGANIZER:
URL;VALUE=URI:https://districtfray.com/event/bad-blood-taylor-versus-miley/
TRANSP:OPAQUE
BEGIN:VALARM
ACTION:DISPLAY
TRIGGER;VALUE=DATE-TIME:20211216T200000Z
DESCRIPTION:Reminder for Bad Blood: Taylor Versus Miley
END:VALARM
END:VEVENT
END:VCALENDAR