BEGIN:VCALENDAR
VERSION:2.0
PRODID:-//District Fray - Making Fun Possible //NONSGML Events //EN
CALSCALE:GREGORIAN
X-WR-CALNAME:District Fray - Making Fun Possible
BEGIN:VEVENT
CREATED:20211130T162451Z
UID:116845
DTEND;VALUE=DATE:20211216T193000Z
DTSTART;VALUE=DATE:20211216T193000Z
DTSTAMP:20260419T124430Z
LOCATION:
DESCRIPTION:
SUMMARY:mewithoutYou “Brother, Sister” 15 Year Anniversary at Black Cat
ORGANIZER:
URL;VALUE=URI:https://districtfray.com/event/mewithoutyou-brother-sister-15-year-anniversary-at-black-cat-2/
TRANSP:OPAQUE
BEGIN:VALARM
ACTION:DISPLAY
TRIGGER;VALUE=DATE-TIME:20211216T193000Z
DESCRIPTION:Reminder for mewithoutYou “Brother\, Sister” 15 Year Anniversary at Black Cat
END:VALARM
END:VEVENT
END:VCALENDAR