BEGIN:VCALENDAR
VERSION:2.0
PRODID:-//District Fray - Making Fun Possible //NONSGML Events //EN
CALSCALE:GREGORIAN
X-WR-CALNAME:District Fray - Making Fun Possible
BEGIN:VEVENT
CREATED:20211104T213201Z
UID:115962
DTEND;VALUE=DATE:20211112T190000Z
DTSTART;VALUE=DATE:20211112T190000Z
DTSTAMP:20260420T090541Z
LOCATION:
DESCRIPTION:
SUMMARY:Danger Bird — “A Tribute to Neil Young”
ORGANIZER:
URL;VALUE=URI:https://districtfray.com/event/danger-bird-neil-young/
TRANSP:OPAQUE
BEGIN:VALARM
ACTION:DISPLAY
TRIGGER;VALUE=DATE-TIME:20211112T190000Z
DESCRIPTION:Reminder for Danger Bird — “A Tribute to Neil Young”
END:VALARM
END:VEVENT
END:VCALENDAR