BEGIN:VCALENDAR
VERSION:2.0
PRODID:-//District Fray - Making Fun Possible //NONSGML Events //EN
CALSCALE:GREGORIAN
X-WR-CALNAME:District Fray - Making Fun Possible
BEGIN:VEVENT
CREATED:20211027T171253Z
UID:114986
DTEND;VALUE=DATE:20211109T150000Z
DTSTART;VALUE=DATE:20211109T150000Z
DTSTAMP:20260420T090257Z
LOCATION:
DESCRIPTION:
SUMMARY:100th Anniversary of the Arrival of the Unknown Soldier
ORGANIZER:
URL;VALUE=URI:https://districtfray.com/event/unknown-soldier-anniversary/
TRANSP:OPAQUE
BEGIN:VALARM
ACTION:DISPLAY
TRIGGER;VALUE=DATE-TIME:20211109T150000Z
DESCRIPTION:Reminder for 100th Anniversary of the Arrival of the Unknown Soldier
END:VALARM
END:VEVENT
END:VCALENDAR