BEGIN:VCALENDAR
VERSION:2.0
PRODID:-//District Fray - Making Fun Possible //NONSGML Events //EN
CALSCALE:GREGORIAN
X-WR-CALNAME:District Fray - Making Fun Possible
BEGIN:VEVENT
CREATED:20210930T175652Z
UID:112614
DTEND;VALUE=DATE:20211022T180000Z
DTSTART;VALUE=DATE:20211022T180000Z
DTSTAMP:20260420T085957Z
LOCATION:
DESCRIPTION:
SUMMARY:Arte Agave Tequila and Mezcal Festival
ORGANIZER:
URL;VALUE=URI:https://districtfray.com/event/arte-agave-tequila-and-mezcal-festival/
TRANSP:OPAQUE
BEGIN:VALARM
ACTION:DISPLAY
TRIGGER;VALUE=DATE-TIME:20211022T180000Z
DESCRIPTION:Reminder for Arte Agave Tequila and Mezcal Festival
END:VALARM
END:VEVENT
END:VCALENDAR