BEGIN:VCALENDAR
VERSION:2.0
PRODID:-//District Fray - Making Fun Possible //NONSGML Events //EN
CALSCALE:GREGORIAN
X-WR-CALNAME:District Fray - Making Fun Possible
BEGIN:VEVENT
CREATED:20210927T172126Z
UID:112068
DTEND;VALUE=DATE:20211003T100000Z
DTSTART;VALUE=DATE:20211003T100000Z
DTSTAMP:20260424T165610Z
LOCATION:
DESCRIPTION:
SUMMARY:Georgetown French Market
ORGANIZER:
URL;VALUE=URI:https://districtfray.com/event/georgetown-french-market/
TRANSP:OPAQUE
BEGIN:VALARM
ACTION:DISPLAY
TRIGGER;VALUE=DATE-TIME:20211003T100000Z
DESCRIPTION:Reminder for Georgetown French Market
END:VALARM
END:VEVENT
END:VCALENDAR