BEGIN:VCALENDAR
VERSION:2.0
PRODID:-//District Fray - Making Fun Possible //NONSGML Events //EN
CALSCALE:GREGORIAN
X-WR-CALNAME:District Fray - Making Fun Possible
BEGIN:VEVENT
CREATED:20210713T150331Z
UID:107854
DTEND;VALUE=DATE:20210724T210000Z
DTSTART;VALUE=DATE:20210724T210000Z
DTSTAMP:20260422T085640Z
LOCATION:
DESCRIPTION:
SUMMARY:Meduza 7.24
ORGANIZER:
URL;VALUE=URI:https://districtfray.com/event/meduza-7-24/
TRANSP:OPAQUE
BEGIN:VALARM
ACTION:DISPLAY
TRIGGER;VALUE=DATE-TIME:20210724T210000Z
DESCRIPTION:Reminder for Meduza 7.24
END:VALARM
END:VEVENT
END:VCALENDAR