BEGIN:VCALENDAR
VERSION:2.0
PRODID:-//District Fray - Making Fun Possible //NONSGML Events //EN
CALSCALE:GREGORIAN
X-WR-CALNAME:District Fray - Making Fun Possible
BEGIN:VEVENT
CREATED:20210712T182227Z
UID:107785
DTEND;VALUE=DATE:20260421T052218Z
DTSTART;VALUE=DATE:20260421T052218Z
DTSTAMP:20260421T092218Z
LOCATION:
DESCRIPTION:
SUMMARY:OMD 4.26
ORGANIZER:
URL;VALUE=URI:https://districtfray.com/event/omd-4-26-2/
TRANSP:OPAQUE
BEGIN:VALARM
ACTION:DISPLAY
TRIGGER;VALUE=DATE-TIME:20260421T052218Z
DESCRIPTION:Reminder for OMD 4.26
END:VALARM
END:VEVENT
END:VCALENDAR