BEGIN:VCALENDAR
VERSION:2.0
PRODID:-//District Fray - Making Fun Possible //NONSGML Events //EN
CALSCALE:GREGORIAN
X-WR-CALNAME:District Fray - Making Fun Possible
BEGIN:VEVENT
CREATED:20210707T150148Z
UID:107183
DTEND;VALUE=DATE:20210917T200000Z
DTSTART;VALUE=DATE:20210917T200000Z
DTSTAMP:20260420T092653Z
LOCATION:
DESCRIPTION:
SUMMARY:Red Wanting Blue 9.17
ORGANIZER:
URL;VALUE=URI:https://districtfray.com/event/red-wanting-blue-9-17/
TRANSP:OPAQUE
BEGIN:VALARM
ACTION:DISPLAY
TRIGGER;VALUE=DATE-TIME:20210917T200000Z
DESCRIPTION:Reminder for Red Wanting Blue 9.17
END:VALARM
END:VEVENT
END:VCALENDAR