BEGIN:VCALENDAR
VERSION:2.0
PRODID:-//District Fray - Making Fun Possible //NONSGML Events //EN
CALSCALE:GREGORIAN
X-WR-CALNAME:District Fray - Making Fun Possible
BEGIN:VEVENT
CREATED:20210629T165149Z
UID:106627
DTEND;VALUE=DATE:20210918T180000Z
DTSTART;VALUE=DATE:20210918T180000Z
DTSTAMP:20260421T103542Z
LOCATION:
DESCRIPTION:
SUMMARY:Bob Mould Band 9.18
ORGANIZER:
URL;VALUE=URI:https://districtfray.com/event/bob-mould-band-9-18/
TRANSP:OPAQUE
BEGIN:VALARM
ACTION:DISPLAY
TRIGGER;VALUE=DATE-TIME:20210918T180000Z
DESCRIPTION:Reminder for Bob Mould Band 9.18
END:VALARM
END:VEVENT
END:VCALENDAR