BEGIN:VCALENDAR
VERSION:2.0
PRODID:-//District Fray - Making Fun Possible //NONSGML Events //EN
CALSCALE:GREGORIAN
X-WR-CALNAME:District Fray - Making Fun Possible
BEGIN:VEVENT
CREATED:20210505T194650Z
UID:102882
DTEND;VALUE=DATE:20210506T173000Z
DTSTART;VALUE=DATE:20210506T173000Z
DTSTAMP:20260422T084848Z
LOCATION:
DESCRIPTION:
SUMMARY:Yappy Hour at King &amp; Rye
ORGANIZER:
URL;VALUE=URI:https://districtfray.com/event/yappy-hour-at-king-rye/
TRANSP:OPAQUE
BEGIN:VALARM
ACTION:DISPLAY
TRIGGER;VALUE=DATE-TIME:20210506T173000Z
DESCRIPTION:Reminder for Yappy Hour at King &amp; Rye
END:VALARM
END:VEVENT
END:VCALENDAR